BEGIN:VCALENDAR
VERSION:2.0
PRODID:-//Nickie Antonio - ECPv5.7.0//NONSGML v1.0//EN
CALSCALE:GREGORIAN
METHOD:PUBLISH
X-WR-CALNAME:Nickie Antonio
X-ORIGINAL-URL:https://www.nickieantonio.com
X-WR-CALDESC:Events for Nickie Antonio
BEGIN:VTIMEZONE
TZID:America/New_York
BEGIN:DAYLIGHT
TZOFFSETFROM:-0500
TZOFFSETTO:-0400
TZNAME:EDT
DTSTART:20180311T070000
END:DAYLIGHT
BEGIN:STANDARD
TZOFFSETFROM:-0400
TZOFFSETTO:-0500
TZNAME:EST
DTSTART:20181104T060000
END:STANDARD
END:VTIMEZONE
BEGIN:VEVENT
DTSTART;TZID=America/New_York:20180423T170000
DTEND;TZID=America/New_York:20180423T190000
DTSTAMP:20210909T141826
CREATED:20180418T203401Z
LAST-MODIFIED:20180418T203401Z
UID:1533-1524502800-1524510000@www.nickieantonio.com
SUMMARY:Meet Antonio at Antonio's
DESCRIPTION:Join us for a Meet & Greet at Antonio’s! Though the owners are not related to Nickie\, we couldn’t think of a better place to gather with members of the community! All are welcome.. we will provide some hors d’oeuvres and non-alcoholic beverages.
URL:https://www.nickieantonio.com/event/meet-antonio-at-antonios/
LOCATION:Antonio’s Pizza\, 7401 W. Ridgewood Dr.\, Parma\, 44129
END:VEVENT
END:VCALENDAR